BEGIN:VCALENDAR
VERSION:2.0
X-WR-CALNAME: Upcoming shows
PRODID:GIGPRESS 2.0 WORDPRESS PLUGIN
CALSCALE:GREGORIAN
X-WR-TIMEZONE:Etc/GMT
METHOD:PUBLISH
BEGIN:VTIMEZONE
TZID:GMT
BEGIN:STANDARD
DTSTART:20071028T010000
TZOFFSETTO:+0000
TZOFFSETFROM:+0000
END:STANDARD
END:VTIMEZONE
BEGIN:VEVENT
SUMMARY:Afterbirth \, Fußballturnier
DESCRIPTION:All Ages
LOCATION:Fußballturnier\, Kamp\, DE
UID:20260525T180000Z-32-matthias@stone-mail.de
URL:https://afterbirth-rock.de
DTSTART;VALUE=DATE-TIME;TZID=GMT:20260525T180000Z
DTEND;VALUE=DATE-TIME;TZID=GMT:20260525T180000Z
DTSTAMP:20260420T054406Z
END:VEVENT
BEGIN:VEVENT
SUMMARY:Afterbirth \, Brückenfest
DESCRIPTION:All Ages
LOCATION:Brückenfest\, Miellen\, DE
UID:20260620T180000Z-33-matthias@stone-mail.de
URL:https://afterbirth-rock.de
DTSTART;VALUE=DATE-TIME;TZID=GMT:20260620T180000Z
DTEND;VALUE=DATE-TIME;TZID=GMT:20260620T180000Z
DTSTAMP:20260420T054406Z
END:VEVENT
BEGIN:VEVENT
SUMMARY:Afterbirth \, Bartholomäusmarkt
DESCRIPTION:All Ages
LOCATION:Bartholomäusmarkt\, Bad Ems\, DE
UID:20260828T180000Z-34-matthias@stone-mail.de
URL:https://afterbirth-rock.de
DTSTART;VALUE=DATE-TIME;TZID=GMT:20260828T180000Z
DTEND;VALUE=DATE-TIME;TZID=GMT:20260828T180000Z
DTSTAMP:20260420T054406Z
END:VEVENT
BEGIN:VEVENT
SUMMARY:Afterbirth \, Beatles Museum Bad Ems
DESCRIPTION:All Ages
LOCATION:Beatles Museum Bad Ems\, Bad Ems\, DE
UID:20261015T180000Z-35-matthias@stone-mail.de
URL:https://afterbirth-rock.de
DTSTART;VALUE=DATE-TIME;TZID=GMT:20261015T180000Z
DTEND;VALUE=DATE-TIME;TZID=GMT:20261015T180000Z
DTSTAMP:20260420T054406Z
END:VEVENT
END:VCALENDAR